BEGIN:VCALENDAR
VERSION:2.0
PRODID:spatie/icalendar-generator
DESCRIPTION:Events from FrenchDuck.com
X-WR-CALDESC:Events from FrenchDuck.com
REFRESH-INTERVAL;VALUE=DURATION:PT1440M
X-PUBLISHED-TTL:PT1440M
BEGIN:VTIMEZONE
TZID:Europe/London
BEGIN:STANDARD
DTSTART:20241027T020000Z
TZOFFSETFROM:+0100
TZOFFSETTO:+0000
END:STANDARD
BEGIN:DAYLIGHT
DTSTART:20250330T010000Z
TZOFFSETFROM:+0000
TZOFFSETTO:+0100
END:DAYLIGHT
END:VTIMEZONE
BEGIN:VTIMEZONE
TZID:UTC
BEGIN:STANDARD
DTSTART:20250728T205458Z
TZOFFSETFROM:+0000
TZOFFSETTO:+0000
END:STANDARD
END:VTIMEZONE
BEGIN:VEVENT
UID:1233-818
DTSTAMP:20260424T205458Z
SUMMARY:FARGUES-SUR-OURBISE Asparagus Festival (47 Lot et Garonne)
LOCATION:
ORGANIZER;CN=john:MAILTO:jboutall@googlemail.com
DTSTART;TZID=Europe/London;VALUE=DATE:20250420
DTEND;TZID=Europe/London;VALUE=DATE:20250421
X-ALT-DESC;FMTTYPE=TEXT/HTML:
CATEGORIES:Food
URL;VALUE=URI:https://frenchduck.com/latest/fdcom-events/?mc_id=1233&#038;v
 cal=1233
METHOD:PUBLISH
END:VEVENT
END:VCALENDAR